BEGIN:VCALENDAR
PRODID:-//http://statistik.d-u-v.org//PHP ultracalendar//EN
VERSION:2.0
METHOD:PUBLISH
BEGIN:VEVENT
DTSTAMP:20260419T153848
CREATED:20260222T143458
UID:1776613128.0.56841800-129355@statistik.d-u-v.org
SUMMARY:Daytona 100 - 100 Miles Ultra
DESCRIPTION: Daytona 100 - 100 Miles Ultra\n
  Race Director Dave Krupski\n
  dave[at]zwittyultra.com
DTSTART:20261212T053000
DTEND:20261213T235900
LOCATION:Atlantic Beach, FL\, USA
URL:https://runsignup.com/Race/FL/JacksonvilleBeach/Daytona100Ultra
CATEGORIES:Ultramarathon
CONTACT:Race Director Dave Krupski
CLASS:PUBLIC
PRIORITY:5
TRANSP:OPAQUE
END:VEVENT
END:VCALENDAR
