BEGIN:VCALENDAR
PRODID:-//http://statistik.d-u-v.org//PHP ultracalendar//EN
VERSION:2.0
METHOD:PUBLISH
BEGIN:VEVENT
DTSTAMP:20260419T195056
CREATED:20260221T215337
UID:1776628256.0.80982400-129339@statistik.d-u-v.org
SUMMARY:Dawn to Dusk 12 Hour
DESCRIPTION: Dawn to Dusk 12 Hour\n
  Bill Schultz\n
  harrisbears[at]yahoo.com
DTSTART:19910511T070000
DTEND:00000000T235900
LOCATION:Sharon Hill, PA\, USA
URL:http://brynmawrracing.com/
CATEGORIES:Ultramarathon
CONTACT:Bill Schultz
CLASS:PUBLIC
PRIORITY:5
TRANSP:OPAQUE
END:VEVENT
END:VCALENDAR
