BEGIN:VCALENDAR
PRODID:-//http://statistik.d-u-v.org//PHP ultracalendar//EN
VERSION:2.0
METHOD:PUBLISH
BEGIN:VEVENT
DTSTAMP:20260426T030529
CREATED:20260220T110123
UID:1777172729.0.86869700-129303@statistik.d-u-v.org
SUMMARY:Yellow Belly Backyard Ultra
DESCRIPTION: Yellow Belly Backyard Ultra\n
  Michael Haynes\n
  sleepingdogfx[at]hotmail.co.uk
DTSTART:20260328T080000
DTEND:00000000T235900
LOCATION:Louth\, GBR
URL:https://bigsbackyardultra.com/races/yellow-belly-backyard-ultra/
CATEGORIES:Ultramarathon
CONTACT:Michael Haynes
CLASS:PUBLIC
PRIORITY:5
TRANSP:OPAQUE
END:VEVENT
END:VCALENDAR
