BEGIN:VCALENDAR
PRODID:-//http://statistik.d-u-v.org//PHP ultracalendar//EN
VERSION:2.0
METHOD:PUBLISH
BEGIN:VEVENT
DTSTAMP:20260419T161248
CREATED:20260219T081230
UID:1776615168.0.86391200-129262@statistik.d-u-v.org
SUMMARY:Lost Turkey Trail 50 km Ultra
DESCRIPTION: Lost Turkey Trail 50 km Ultra\n
  Race Director Michele Jacoby\n
  lostturkeyultra[at]gmail.com
DTSTART:20260725T060000
DTEND:00000000T235900
LOCATION:Blue Knob, PA\, USA
URL:https://runsignup.com/Race/PA/Imler/LostTurkeyTrailRaces
CATEGORIES:Ultramarathon
CONTACT:Race Director Michele Jacoby
CLASS:PUBLIC
PRIORITY:5
TRANSP:OPAQUE
END:VEVENT
END:VCALENDAR
