BEGIN:VCALENDAR
PRODID:-//http://statistik.d-u-v.org//PHP ultracalendar//EN
VERSION:2.0
METHOD:PUBLISH
BEGIN:VEVENT
DTSTAMP:20260423T050339
CREATED:20260218T160904
UID:1776920619.0.39071100-129232@statistik.d-u-v.org
SUMMARY:Flat Top Mesa 100 Mile Endurance Run
DESCRIPTION: Flat Top Mesa 100 Mile Endurance Run\n
  \n
  
DTSTART:20260214T060000
DTEND:20260215T160000
LOCATION:Mesquite, NV\, USA
URL:https://runsignup.com/Race/NV/Mesquite/FlatTopMesaEnduranceRun
CATEGORIES:Ultramarathon
CONTACT:
CLASS:PUBLIC
PRIORITY:5
TRANSP:OPAQUE
END:VEVENT
END:VCALENDAR
