BEGIN:VCALENDAR
PRODID:-//http://statistik.d-u-v.org//PHP ultracalendar//EN
VERSION:2.0
METHOD:PUBLISH
BEGIN:VEVENT
DTSTAMP:20260420T040141
CREATED:20260218T153807
UID:1776657701.0.65050900-129231@statistik.d-u-v.org
SUMMARY:Bell Ringer 50k Trail Run
DESCRIPTION: Bell Ringer 50k Trail Run\n
  \n
  destiny.adcox[at]tn.gov
DTSTART:20261212T000000
DTEND:00000000T235900
LOCATION:Burns, TN\, USA
URL:https://ultrasignup.com/register.aspx?did=136143
CATEGORIES:Ultramarathon
CONTACT:
CLASS:PUBLIC
PRIORITY:5
TRANSP:OPAQUE
END:VEVENT
END:VCALENDAR
