BEGIN:VCALENDAR
PRODID:-//http://statistik.d-u-v.org//PHP ultracalendar//EN
VERSION:2.0
METHOD:PUBLISH
BEGIN:VEVENT
DTSTAMP:20260421T143119
CREATED:20260217T160033
UID:1776781879.0.89614900-129214@statistik.d-u-v.org
SUMMARY:Zhangjiajie UCTR 50km Trail Challenge
DESCRIPTION: Zhangjiajie UCTR 50km Trail Challenge\n
  \n
  422590755[at]qq.com
DTSTART:20250412T070000
DTEND:00000000T235900
LOCATION:Zhangjiajie City\, CHN
URL:https://www.tsec.fun
CATEGORIES:Ultramarathon
CONTACT:
CLASS:PUBLIC
PRIORITY:5
TRANSP:OPAQUE
END:VEVENT
END:VCALENDAR
