BEGIN:VCALENDAR
PRODID:-//http://statistik.d-u-v.org//PHP ultracalendar//EN
VERSION:2.0
METHOD:PUBLISH
BEGIN:VEVENT
DTSTAMP:20260419T203016
CREATED:20260217T083330
UID:1776630616.0.80469700-129203@statistik.d-u-v.org
SUMMARY:WXT Ultra
DESCRIPTION: WXT Ultra\n
  \n
  aaccardo[at]buckscotriclub.com
DTSTART:20261024T073000
DTEND:00000000T235900
LOCATION:Hopewell Township, NJ\, USA
URL:https://ultrasignup.com/register.aspx?did=135973
CATEGORIES:Ultramarathon
CONTACT:
CLASS:PUBLIC
PRIORITY:5
TRANSP:OPAQUE
END:VEVENT
END:VCALENDAR
