BEGIN:VCALENDAR
PRODID:-//http://statistik.d-u-v.org//PHP ultracalendar//EN
VERSION:2.0
METHOD:PUBLISH
BEGIN:VEVENT
DTSTAMP:20260419T140815
CREATED:20260214T171238
UID:1776607695.0.84991500-129153@statistik.d-u-v.org
SUMMARY:Grüner Ring Hannover 62km
DESCRIPTION: Grüner Ring Hannover 62km\n
  Heiko von der Ahé\n
  tekkelpower[at]gmail.com
DTSTART:20260517T080000
DTEND:00000000T235900
LOCATION:Hannover\, GER
URL:https://my.raceresult.com/376822/
CATEGORIES:Ultramarathon
CONTACT:Heiko von der Ahé
CLASS:PUBLIC
PRIORITY:5
TRANSP:OPAQUE
END:VEVENT
END:VCALENDAR
