BEGIN:VCALENDAR
PRODID:-//http://statistik.d-u-v.org//PHP ultracalendar//EN
VERSION:2.0
METHOD:PUBLISH
BEGIN:VEVENT
DTSTAMP:20260419T163100
CREATED:20260214T170335
UID:1776616260.0.52196600-129127@statistik.d-u-v.org
SUMMARY:Trail Run at Sly Park - Fall
DESCRIPTION: Trail Run at Sly Park - Fall\n
  \n
  team[at]tctruns.com
DTSTART:20261024T080000
DTEND:00000000T235900
LOCATION:Pollock Pines, CA\, USA
URL:https://ultrasignup.com/register.aspx?did=135876
CATEGORIES:Ultramarathon
CONTACT:
CLASS:PUBLIC
PRIORITY:5
TRANSP:OPAQUE
END:VEVENT
END:VCALENDAR
