BEGIN:VCALENDAR
PRODID:-//http://statistik.d-u-v.org//PHP ultracalendar//EN
VERSION:2.0
METHOD:PUBLISH
BEGIN:VEVENT
DTSTAMP:20260419T182223
CREATED:20260214T170206
UID:1776622943.0.97725300-129126@statistik.d-u-v.org
SUMMARY:A Day in the Park 6h
DESCRIPTION: A Day in the Park 6h\n
  \n
  
DTSTART:20260919T000000
DTEND:20260920T070000
LOCATION:Lebanon, OH\, USA
URL:https://ultrasignup.com/register.aspx?did=135873
CATEGORIES:Ultramarathon
CONTACT:
CLASS:PUBLIC
PRIORITY:5
TRANSP:OPAQUE
END:VEVENT
END:VCALENDAR
