BEGIN:VCALENDAR
PRODID:-//http://statistik.d-u-v.org//PHP ultracalendar//EN
VERSION:2.0
METHOD:PUBLISH
BEGIN:VEVENT
DTSTAMP:20260421T143122
CREATED:20260212T051328
UID:1776781882.0.80753500-129065@statistik.d-u-v.org
SUMMARY:Taihang Trail Running
DESCRIPTION: Taihang Trail Running\n
  \n
  xiangshan100race[at]yeah.net
DTSTART:20250629T053000
DTEND:00000000T235900
LOCATION:Laiyuan County\, CHN
URL:https://zuicool.com/event/76774
CATEGORIES:Ultramarathon
CONTACT:
CLASS:PUBLIC
PRIORITY:5
TRANSP:OPAQUE
END:VEVENT
END:VCALENDAR
