BEGIN:VCALENDAR
PRODID:-//http://statistik.d-u-v.org//PHP ultracalendar//EN
VERSION:2.0
METHOD:PUBLISH
BEGIN:VEVENT
DTSTAMP:20260419T140009
CREATED:20260211T091106
UID:1776607209.0.27887900-129060@statistik.d-u-v.org
SUMMARY:Palo Duro 50 Km Trail Run
DESCRIPTION: Palo Duro 50 Km Trail Run\n
  \n
  pdtrun[at]hotmail.com
DTSTART:20261017T070000
DTEND:00000000T235900
LOCATION:Amarillo, TX\, USA
URL:https://ultrasignup.com/register.aspx?did=135783
CATEGORIES:Ultramarathon
CONTACT:
CLASS:PUBLIC
PRIORITY:5
TRANSP:OPAQUE
END:VEVENT
END:VCALENDAR
