BEGIN:VCALENDAR
PRODID:-//http://statistik.d-u-v.org//PHP ultracalendar//EN
VERSION:2.0
METHOD:PUBLISH
BEGIN:VEVENT
DTSTAMP:20260425T152920
CREATED:20260210T173204
UID:1777130960.0.67431100-129047@statistik.d-u-v.org
SUMMARY:Luzon 672-Mile Endurance Run
DESCRIPTION: Luzon 672-Mile Endurance Run\n
  \n
  
DTSTART:20260120T000000
DTEND:20260201T235900
LOCATION:Luzon\, PHI
URL:https://www.facebook.com/JonAlegre0514/posts/endurance-challenge-philippinesthe-luzon-672-mile-endurance-run-2026-passes-thro/26157990940462757/
CATEGORIES:Ultramarathon
CONTACT:
CLASS:PUBLIC
PRIORITY:5
TRANSP:OPAQUE
END:VEVENT
END:VCALENDAR
