BEGIN:VCALENDAR
PRODID:-//http://statistik.d-u-v.org//PHP ultracalendar//EN
VERSION:2.0
METHOD:PUBLISH
BEGIN:VEVENT
DTSTAMP:20260419T140048
CREATED:20260209T200845
UID:1776607248.0.60672000-129020@statistik.d-u-v.org
SUMMARY:Trail de la Soupe
DESCRIPTION: Trail de la Soupe\n
  \n
  
DTSTART:20261129T000000
DTEND:00000000T235900
LOCATION:La-Roche-en-Ardenne\, BEL
URL:https://www.trailrun.be/fr/trail-de-la-soupe/#efaq-45km-dimanche-1730m-d
CATEGORIES:Ultramarathon
CONTACT:
CLASS:PUBLIC
PRIORITY:5
TRANSP:OPAQUE
END:VEVENT
END:VCALENDAR
