BEGIN:VCALENDAR
PRODID:-//http://statistik.d-u-v.org//PHP ultracalendar//EN
VERSION:2.0
METHOD:PUBLISH
BEGIN:VEVENT
DTSTAMP:20260419T135953
CREATED:20260206T192020
UID:1776607193.0.58553700-129002@statistik.d-u-v.org
SUMMARY:Texas Double Saturday Run
DESCRIPTION: Texas Double Saturday Run\n
  \n
  duurun[at]gmail.com
DTSTART:20261219T070000
DTEND:00000000T235900
LOCATION:Dallas, TX\, USA
URL:https://runsignup.com/Race/TX/Dallas/TexasDouble
CATEGORIES:Ultramarathon
CONTACT:
CLASS:PUBLIC
PRIORITY:5
TRANSP:OPAQUE
END:VEVENT
END:VCALENDAR
