BEGIN:VCALENDAR
PRODID:-//http://statistik.d-u-v.org//PHP ultracalendar//EN
VERSION:2.0
METHOD:PUBLISH
BEGIN:VEVENT
DTSTAMP:20260419T135923
CREATED:20260205T232317
UID:1776607163.0.45559100-128998@statistik.d-u-v.org
SUMMARY:The Shippey 40mi Endurance Runs
DESCRIPTION: The Shippey 40mi Endurance Runs\n
  \n
  prracemanager[at]theshippey.com
DTSTART:20270116T200000
DTEND:00000000T235900
LOCATION:High Ridge, MO\, USA
URL:https://ultrasignup.com/register.aspx?did=135549
CATEGORIES:Ultramarathon
CONTACT:
CLASS:PUBLIC
PRIORITY:5
TRANSP:OPAQUE
END:VEVENT
END:VCALENDAR
