BEGIN:VCALENDAR
PRODID:-//http://statistik.d-u-v.org//PHP ultracalendar//EN
VERSION:2.0
METHOD:PUBLISH
BEGIN:VEVENT
DTSTAMP:20260419T155000
CREATED:20260202T181748
UID:1776613800.0.84362400-128952@statistik.d-u-v.org
SUMMARY:Big A 50K Trail Race
DESCRIPTION: Big A 50K Trail Race\n
  Rich Collins and Bob Najar\n
  
DTSTART:20260502T073000
DTEND:00000000T235900
LOCATION:York, ME\, USA
URL:https://runsignup.com/Race/ME/York/BigA50K
CATEGORIES:Ultramarathon
CONTACT:Rich Collins and Bob Najar
CLASS:PUBLIC
PRIORITY:5
TRANSP:OPAQUE
END:VEVENT
END:VCALENDAR
