BEGIN:VCALENDAR
PRODID:-//http://statistik.d-u-v.org//PHP ultracalendar//EN
VERSION:2.0
METHOD:PUBLISH
BEGIN:VEVENT
DTSTAMP:20260420T124902
CREATED:20260201T024554
UID:1776689342.0.31487500-128935@statistik.d-u-v.org
SUMMARY:SP Endurance Challenge Réveillon 2026
DESCRIPTION: SP Endurance Challenge Réveillon 2026\n
  Pedro Miyahira\n
  spendurancechallenge[at]hotmail.com
DTSTART:20261226T000100
DTEND:20261227T070100
LOCATION:São Paulo\, BRA
URL:http://www.spendurancechallenge.com.br/
CATEGORIES:Ultramarathon
CONTACT:Pedro Miyahira
CLASS:PUBLIC
PRIORITY:5
TRANSP:OPAQUE
END:VEVENT
END:VCALENDAR
