BEGIN:VCALENDAR
PRODID:-//http://statistik.d-u-v.org//PHP ultracalendar//EN
VERSION:2.0
METHOD:PUBLISH
BEGIN:VEVENT
DTSTAMP:20260423T131515
CREATED:20260201T112342
UID:1776950115.0.06529100-128915@statistik.d-u-v.org
SUMMARY:Backyard Santiago
DESCRIPTION: Backyard Santiago\n
  \n
  
DTSTART:20260207T000000
DTEND:20260208T235900
LOCATION:Santiago, NL\, MEX
URL:https://timingpointmx.com/event/backyard-santiago-3era-edicion/
CATEGORIES:Ultramarathon
CONTACT:
CLASS:PUBLIC
PRIORITY:5
TRANSP:OPAQUE
END:VEVENT
END:VCALENDAR
