BEGIN:VCALENDAR
PRODID:-//http://statistik.d-u-v.org//PHP ultracalendar//EN
VERSION:2.0
METHOD:PUBLISH
BEGIN:VEVENT
DTSTAMP:20260419T165019
CREATED:20260201T003356
UID:1776617419.0.15137500-128889@statistik.d-u-v.org
SUMMARY:Big Bend Ultra
DESCRIPTION: Big Bend Ultra\n
  Carroll Voss\n
  carroll[at]overlandracing.com
DTSTART:20270117T053000
DTEND:00000000T235900
LOCATION:Lajitas, TX\, USA
URL:https://runsignup.com/Race/TX/Terlingua/BigBendUltra
CATEGORIES:Ultramarathon
CONTACT:Carroll Voss
CLASS:PUBLIC
PRIORITY:5
TRANSP:OPAQUE
END:VEVENT
END:VCALENDAR
