BEGIN:VCALENDAR
PRODID:-//http://statistik.d-u-v.org//PHP ultracalendar//EN
VERSION:2.0
METHOD:PUBLISH
BEGIN:VEVENT
DTSTAMP:20260419T180849
CREATED:20260131T223144
UID:1776622129.0.16035700-128879@statistik.d-u-v.org
SUMMARY:Dream Nation Apparel 24 Hour
DESCRIPTION: Dream Nation Apparel 24 Hour\n
  \n
  yhempler[at]gmail.com
DTSTART:20260919T090000
DTEND:20260920T090000
LOCATION:Duncan, BC\, CAN
URL:https://raceroster.com/events/2026/112601/dream-nation-apparel-vancouver-island-24-hour
CATEGORIES:Ultramarathon
CONTACT:
CLASS:PUBLIC
PRIORITY:5
TRANSP:OPAQUE
END:VEVENT
END:VCALENDAR
