BEGIN:VCALENDAR
PRODID:-//http://statistik.d-u-v.org//PHP ultracalendar//EN
VERSION:2.0
METHOD:PUBLISH
BEGIN:VEVENT
DTSTAMP:20260419T161553
CREATED:20260131T210649
UID:1776615353.0.30039400-128865@statistik.d-u-v.org
SUMMARY:Cactus Roulette Endurance - 6h
DESCRIPTION: Cactus Roulette Endurance - 6h\n
  \n
  
DTSTART:20270124T060000
DTEND:00000000T235900
LOCATION:Lawrence, KS\, USA
URL:https://ultrasignup.com/register.aspx?did=135411
CATEGORIES:Ultramarathon
CONTACT:
CLASS:PUBLIC
PRIORITY:5
TRANSP:OPAQUE
END:VEVENT
END:VCALENDAR
