BEGIN:VCALENDAR
PRODID:-//http://statistik.d-u-v.org//PHP ultracalendar//EN
VERSION:2.0
METHOD:PUBLISH
BEGIN:VEVENT
DTSTAMP:20260419T161736
CREATED:20260131T004225
UID:1776615456.0.82614600-128854@statistik.d-u-v.org
SUMMARY:Edge Hill Trail Race
DESCRIPTION: Edge Hill Trail Race\n
  \n
  
DTSTART:20260613T070000
DTEND:00000000T235900
LOCATION:Ashfield, MA\, USA
URL:https://www.beastcoasttrailrunning.org/edge-hill-trail-race
CATEGORIES:Ultramarathon
CONTACT:
CLASS:PUBLIC
PRIORITY:5
TRANSP:OPAQUE
END:VEVENT
END:VCALENDAR
