BEGIN:VCALENDAR
PRODID:-//http://statistik.d-u-v.org//PHP ultracalendar//EN
VERSION:2.0
METHOD:PUBLISH
BEGIN:VEVENT
DTSTAMP:20260419T140118
CREATED:20260131T004047
UID:1776607278.0.53564400-128853@statistik.d-u-v.org
SUMMARY:Race for the Refuge
DESCRIPTION: Race for the Refuge\n
  \n
  trailRD@highlandcitystriders.org
DTSTART:20260927T090000
DTEND:00000000T235900
LOCATION:Sudbury, MA\, USA
URL:https://runsignup.com/Race/MA/Sudbury/RaceForTheRefuge
CATEGORIES:Ultramarathon
CONTACT:
CLASS:PUBLIC
PRIORITY:5
TRANSP:OPAQUE
END:VEVENT
END:VCALENDAR
