BEGIN:VCALENDAR
PRODID:-//http://statistik.d-u-v.org//PHP ultracalendar//EN
VERSION:2.0
METHOD:PUBLISH
BEGIN:VEVENT
DTSTAMP:20260420T165444
CREATED:
UID:1776704084.0.44326200-128821@statistik.d-u-v.org
SUMMARY:Jarakabande Eco Ultra 161 Km
DESCRIPTION: Jarakabande Eco Ultra 161 Km\n
  Sushil Bhasin\n
  sports[at]bhasin.in
DTSTART:20260221T060000
DTEND:20260222T170000
LOCATION:Ramgondanhalli\, IND
URL:http://bhasinsports.com
CATEGORIES:Ultramarathon
CONTACT:Sushil Bhasin
CLASS:PUBLIC
PRIORITY:5
TRANSP:OPAQUE
END:VEVENT
END:VCALENDAR
