BEGIN:VCALENDAR
PRODID:-//http://statistik.d-u-v.org//PHP ultracalendar//EN
VERSION:2.0
METHOD:PUBLISH
BEGIN:VEVENT
DTSTAMP:20260419T192232
CREATED:20111230T161657
UID:1776626552.0.85508300-12879@statistik.d-u-v.org
SUMMARY:Cajun Coyote 100 km Trail Run
DESCRIPTION: Cajun Coyote 100 km Trail Run\n
  Chris Scott, Race Director\n
  cajundip[at]coyotemoonultras.com
DTSTART:20111203T000000
DTEND:20111204T235900
LOCATION:Ville Platte, LA\, USA
URL:http://coyotemoonultras.com/cajun-coyote/
CATEGORIES:Ultramarathon
CONTACT:Chris Scott, Race Director
CLASS:PUBLIC
PRIORITY:5
TRANSP:OPAQUE
END:VEVENT
END:VCALENDAR
