BEGIN:VCALENDAR
PRODID:-//http://statistik.d-u-v.org//PHP ultracalendar//EN
VERSION:2.0
METHOD:PUBLISH
BEGIN:VEVENT
DTSTAMP:20260419T140016
CREATED:20260126T111038
UID:1776607216.0.67702300-128763@statistik.d-u-v.org
SUMMARY:3 Valleys Runningworks Marathon
DESCRIPTION: 3 Valleys Runningworks Marathon\n
  Chris Lark\n
  runningworkshilton[at]outlook.com
DTSTART:20260906T070000
DTEND:00000000T235900
LOCATION:Bickley, WA\, AUS
URL:http://www.squashworks.com.au/
CATEGORIES:Ultramarathon
CONTACT:Chris Lark
CLASS:PUBLIC
PRIORITY:5
TRANSP:OPAQUE
END:VEVENT
END:VCALENDAR
