BEGIN:VCALENDAR
PRODID:-//http://statistik.d-u-v.org//PHP ultracalendar//EN
VERSION:2.0
METHOD:PUBLISH
BEGIN:VEVENT
DTSTAMP:20260419T121629
CREATED:20260125T061349
UID:1776600989.0.66632600-128711@statistik.d-u-v.org
SUMMARY:KCTCT The Cascade
DESCRIPTION: KCTCT The Cascade\n
  Nakorn Chuenbunchom\n
  thaitrektrail[at]gmail.com
DTSTART:20260502T040000
DTEND:20260502T210000
LOCATION:Koh Chang Tai\, THA
URL:https://www.facebook.com/profile.php?id=61581613415814
CATEGORIES:Ultramarathon
CONTACT:Nakorn Chuenbunchom
CLASS:PUBLIC
PRIORITY:5
TRANSP:OPAQUE
END:VEVENT
END:VCALENDAR
