BEGIN:VCALENDAR
PRODID:-//http://statistik.d-u-v.org//PHP ultracalendar//EN
VERSION:2.0
METHOD:PUBLISH
BEGIN:VEVENT
DTSTAMP:20260419T161333
CREATED:20260124T205701
UID:1776615213.0.57362700-128704@statistik.d-u-v.org
SUMMARY:8 Hours of Ode Race
DESCRIPTION: 8 Hours of Ode Race\n
  Tad Machrowicz\n
  innoformllc[at]gmail.com
DTSTART:20270116T092000
DTEND:00000000T235900
LOCATION:Holly, MI\, USA
URL:https://ultrasignup.com/register.aspx?did=135139
CATEGORIES:Ultramarathon
CONTACT:Tad Machrowicz
CLASS:PUBLIC
PRIORITY:5
TRANSP:OPAQUE
END:VEVENT
END:VCALENDAR
