BEGIN:VCALENDAR
PRODID:-//http://statistik.d-u-v.org//PHP ultracalendar//EN
VERSION:2.0
METHOD:PUBLISH
BEGIN:VEVENT
DTSTAMP:20260419T140018
CREATED:20260124T204944
UID:1776607218.0.68111000-128700@statistik.d-u-v.org
SUMMARY:Run The Red Desert 50km Race
DESCRIPTION: Run The Red Desert 50km Race\n
  \n
  info[at]wyomingoutdoorcouncil.org
DTSTART:20260926T080000
DTEND:00000000T235900
LOCATION:Rock Springs, WY\, USA
URL:https://ultrasignup.com/register.aspx?did=135051
CATEGORIES:Ultramarathon
CONTACT:
CLASS:PUBLIC
PRIORITY:5
TRANSP:OPAQUE
END:VEVENT
END:VCALENDAR
