BEGIN:VCALENDAR
PRODID:-//http://statistik.d-u-v.org//PHP ultracalendar//EN
VERSION:2.0
METHOD:PUBLISH
BEGIN:VEVENT
DTSTAMP:20260419T182238
CREATED:20260122T212258
UID:1776622958.0.27992700-128671@statistik.d-u-v.org
SUMMARY:Conociendo a la Pacha Mama (UTCPM) 160km
DESCRIPTION: Conociendo a la Pacha Mama (UTCPM) 160km\n
  \n
  info[at]ecoatletas.com
DTSTART:20261011T050000
DTEND:20261013T130000
LOCATION:Tilcara, Jujuy\, ARG
URL:http://www.ecoatletas.com
CATEGORIES:Ultramarathon
CONTACT:
CLASS:PUBLIC
PRIORITY:5
TRANSP:OPAQUE
END:VEVENT
END:VCALENDAR
