BEGIN:VCALENDAR
PRODID:-//http://statistik.d-u-v.org//PHP ultracalendar//EN
VERSION:2.0
METHOD:PUBLISH
BEGIN:VEVENT
DTSTAMP:20260419T173634
CREATED:20260122T212518
UID:1776620194.0.90196100-128669@statistik.d-u-v.org
SUMMARY:Conociendo a la Pacha Mama (UTCPM) 100km
DESCRIPTION: Conociendo a la Pacha Mama (UTCPM) 100km\n
  \n
  info[at]ecoatletas.com
DTSTART:20261010T070000
DTEND:20261012T040000
LOCATION:Tilcara, Jujuy\, ARG
URL:http://www.ecoatletas.com
CATEGORIES:Ultramarathon
CONTACT:
CLASS:PUBLIC
PRIORITY:5
TRANSP:OPAQUE
END:VEVENT
END:VCALENDAR
