BEGIN:VCALENDAR
PRODID:-//http://statistik.d-u-v.org//PHP ultracalendar//EN
VERSION:2.0
METHOD:PUBLISH
BEGIN:VEVENT
DTSTAMP:20260419T163055
CREATED:20260123T120714
UID:1776616255.0.33092400-128663@statistik.d-u-v.org
SUMMARY:Boyne Valley 50
DESCRIPTION: Boyne Valley 50\n
  Kyle Adams\n
  info[at]milepostevents.com.au
DTSTART:20260718T070000
DTEND:00000000T235900
LOCATION:Boyne Valley, QLD\, AUS
URL:https://milepostevents.com.au/boyne-valley-50/
CATEGORIES:Ultramarathon
CONTACT:Kyle Adams
CLASS:PUBLIC
PRIORITY:5
TRANSP:OPAQUE
END:VEVENT
END:VCALENDAR
