BEGIN:VCALENDAR
PRODID:-//http://statistik.d-u-v.org//PHP ultracalendar//EN
VERSION:2.0
METHOD:PUBLISH
BEGIN:VEVENT
DTSTAMP:20260419T140019
CREATED:20260122T145709
UID:1776607219.0.50029500-128632@statistik.d-u-v.org
SUMMARY:Trans Sahara Marathon
DESCRIPTION: Trans Sahara Marathon\n
  Mohamad Ahansal\n
  ahansalevents[at]gmail.com
DTSTART:20270319T000000
DTEND:20270326T235900
LOCATION:Zagora\, MAR
URL:https://transsaharamarathon.com/
CATEGORIES:Ultramarathon
CONTACT:Mohamad Ahansal
CLASS:PUBLIC
PRIORITY:5
TRANSP:OPAQUE
END:VEVENT
END:VCALENDAR
