BEGIN:VCALENDAR
PRODID:-//http://statistik.d-u-v.org//PHP ultracalendar//EN
VERSION:2.0
METHOD:PUBLISH
BEGIN:VEVENT
DTSTAMP:20260419T161340
CREATED:20260120T132111
UID:1776615220.0.76892800-128587@statistik.d-u-v.org
SUMMARY:Backyard Ultra Piekiełki in the dark
DESCRIPTION: Backyard Ultra Piekiełki in the dark\n
  Joanna Kozłowska\n
  piekielki[at]gmail.com
DTSTART:20261205T160000
DTEND:00000000T235900
LOCATION:Piekiełki\, POL
URL:https://www.facebook.com/profile.php?id=61553937184029
CATEGORIES:Ultramarathon
CONTACT:Joanna Kozłowska
CLASS:PUBLIC
PRIORITY:5
TRANSP:OPAQUE
END:VEVENT
END:VCALENDAR
