BEGIN:VCALENDAR
PRODID:-//http://statistik.d-u-v.org//PHP ultracalendar//EN
VERSION:2.0
METHOD:PUBLISH
BEGIN:VEVENT
DTSTAMP:20260419T121536
CREATED:20260119T214045
UID:1776600936.0.97653800-128579@statistik.d-u-v.org
SUMMARY:Gran Raid delle Prealpi Trevigiane - GR60
DESCRIPTION: Gran Raid delle Prealpi Trevigiane - GR60\n
  Guido Perin\n
  guidoperin62[at]gmail.com; info[at]granraid.it
DTSTART:20260516T060000
DTEND:00000000T235900
LOCATION:Segusino\, ITA
URL:https://www.granraid.it
CATEGORIES:Ultramarathon
CONTACT:Guido Perin
CLASS:PUBLIC
PRIORITY:5
TRANSP:OPAQUE
END:VEVENT
END:VCALENDAR
