BEGIN:VCALENDAR
PRODID:-//http://statistik.d-u-v.org//PHP ultracalendar//EN
VERSION:2.0
METHOD:PUBLISH
BEGIN:VEVENT
DTSTAMP:20260419T121546
CREATED:20260119T101056
UID:1776600946.0.71669700-128565@statistik.d-u-v.org
SUMMARY:Garda Trentino Trail Extra
DESCRIPTION: Garda Trentino Trail Extra\n
  Matteo Paternostro\n
  info[at]gardatrentinotrail.it
DTSTART:20260515T123000
DTEND:20260517T143000
LOCATION:Arco\, ITA
URL:https://www.gardatrentinotrail.it/
CATEGORIES:Ultramarathon
CONTACT:Matteo Paternostro
CLASS:PUBLIC
PRIORITY:5
TRANSP:OPAQUE
END:VEVENT
END:VCALENDAR
