BEGIN:VCALENDAR
PRODID:-//http://statistik.d-u-v.org//PHP ultracalendar//EN
VERSION:2.0
METHOD:PUBLISH
BEGIN:VEVENT
DTSTAMP:20260419T161749
CREATED:20260119T092806
UID:1776615469.0.29810400-128563@statistik.d-u-v.org
SUMMARY:Garda Trentino Trail (GTT)
DESCRIPTION: Garda Trentino Trail (GTT)\n
  Matteo Paternostro\n
  info[at]gardatrentinotrail.it
DTSTART:20260516T080000
DTEND:00000000T235900
LOCATION:Riva del Garda\, ITA
URL:https://www.gardatrentinotrail.it/
CATEGORIES:Ultramarathon
CONTACT:Matteo Paternostro
CLASS:PUBLIC
PRIORITY:5
TRANSP:OPAQUE
END:VEVENT
END:VCALENDAR
