BEGIN:VCALENDAR
PRODID:-//http://statistik.d-u-v.org//PHP ultracalendar//EN
VERSION:2.0
METHOD:PUBLISH
BEGIN:VEVENT
DTSTAMP:20260419T135806
CREATED:20260119T085420
UID:1776607086.0.61679500-128554@statistik.d-u-v.org
SUMMARY:Medunarodni 100km ultramaraton
DESCRIPTION: Medunarodni 100km ultramaraton\n
  Elvira Janoši\n
  ultramaratonpalic[at]gmail.com
DTSTART:20260621T000000
DTEND:20250621T120000
LOCATION:Palić\, SRB
URL:http://www.usspalic.org
CATEGORIES:Ultramarathon
CONTACT:Elvira Janoši
CLASS:PUBLIC
PRIORITY:5
TRANSP:OPAQUE
END:VEVENT
END:VCALENDAR
