BEGIN:VCALENDAR
PRODID:-//http://statistik.d-u-v.org//PHP ultracalendar//EN
VERSION:2.0
METHOD:PUBLISH
BEGIN:VEVENT
DTSTAMP:20260419T121654
CREATED:20260118T162547
UID:1776601014.0.64001000-128519@statistik.d-u-v.org
SUMMARY:Quattro Colli Running
DESCRIPTION: Quattro Colli Running\n
  Mario Castagnoli\n
  mario.castagnoli45[at]gmail.com;andigio.pelo[at]gmail.com
DTSTART:20260509T120000
DTEND:20260511T235900
LOCATION:Cesenatico (FC)\, ITA
URL:http://www.novecollirunning.it
CATEGORIES:Ultramarathon
CONTACT:Mario Castagnoli
CLASS:PUBLIC
PRIORITY:5
TRANSP:OPAQUE
END:VEVENT
END:VCALENDAR
