BEGIN:VCALENDAR
PRODID:-//http://statistik.d-u-v.org//PHP ultracalendar//EN
VERSION:2.0
METHOD:PUBLISH
BEGIN:VEVENT
DTSTAMP:20260419T165016
CREATED:20260118T092327
UID:1776617416.0.50613500-128514@statistik.d-u-v.org
SUMMARY:Coyote Wall 50km Trail Race
DESCRIPTION: Coyote Wall 50km Trail Race\n
  \n
  wonderland.running.pnw[at]gmail.com
DTSTART:20261024T080000
DTEND:00000000T235900
LOCATION:White Salmon, WA\, USA
URL:https://ultrasignup.com/register.aspx?did=121364
CATEGORIES:Ultramarathon
CONTACT:
CLASS:PUBLIC
PRIORITY:5
TRANSP:OPAQUE
END:VEVENT
END:VCALENDAR
