BEGIN:VCALENDAR
PRODID:-//http://statistik.d-u-v.org//PHP ultracalendar//EN
VERSION:2.0
METHOD:PUBLISH
BEGIN:VEVENT
DTSTAMP:20260419T161559
CREATED:20260118T090006
UID:1776615359.0.85869200-128511@statistik.d-u-v.org
SUMMARY:Baby Backyard Ultra 5K-50K
DESCRIPTION: Baby Backyard Ultra 5K-50K\n
  \n
  
DTSTART:20260808T060000
DTEND:00000000T235900
LOCATION:Andover, MN\, USA
URL:https://ultrasignup.com/register.aspx?did=134819
CATEGORIES:Ultramarathon
CONTACT:
CLASS:PUBLIC
PRIORITY:5
TRANSP:OPAQUE
END:VEVENT
END:VCALENDAR
