BEGIN:VCALENDAR
PRODID:-//http://statistik.d-u-v.org//PHP ultracalendar//EN
VERSION:2.0
METHOD:PUBLISH
BEGIN:VEVENT
DTSTAMP:20260419T233334
CREATED:20260118T084245
UID:1776641614.0.56789500-128508@statistik.d-u-v.org
SUMMARY:Last Chance 50 km Ultra Race
DESCRIPTION: Last Chance 50 km Ultra Race\n
  \n
  keaton[at]heartlandracingco.com
DTSTART:20261205T060000
DTEND:00000000T235900
LOCATION:Springfield, MO\, USA
URL:https://ultrasignup.com/register.aspx?did=134798
CATEGORIES:Ultramarathon
CONTACT:
CLASS:PUBLIC
PRIORITY:5
TRANSP:OPAQUE
END:VEVENT
END:VCALENDAR
