BEGIN:VCALENDAR
PRODID:-//http://statistik.d-u-v.org//PHP ultracalendar//EN
VERSION:2.0
METHOD:PUBLISH
BEGIN:VEVENT
DTSTAMP:20260419T155005
CREATED:20260117T075022
UID:1776613805.0.77927600-128503@statistik.d-u-v.org
SUMMARY:Crete Senesi Ultra Marathon
DESCRIPTION: Crete Senesi Ultra Marathon\n
  Carlo\n
  info[at]creteultramarathon.it
DTSTART:20260503T080000
DTEND:00000000T235900
LOCATION:Rapolano Terme (SI)\, ITA
URL:https://www.creteultramarathon.it/
CATEGORIES:Ultramarathon
CONTACT:Carlo
CLASS:PUBLIC
PRIORITY:5
TRANSP:OPAQUE
END:VEVENT
END:VCALENDAR
