BEGIN:VCALENDAR
PRODID:-//http://statistik.d-u-v.org//PHP ultracalendar//EN
VERSION:2.0
METHOD:PUBLISH
BEGIN:VEVENT
DTSTAMP:20260419T121532
CREATED:20260117T112442
UID:1776600932.0.51404000-128496@statistik.d-u-v.org
SUMMARY:Chianti Classico Marathon Ultra Trail
DESCRIPTION: Chianti Classico Marathon Ultra Trail\n
  \n
  info[at]chianticlassicomarathon.com
DTSTART:20260510T070000
DTEND:00000000T235900
LOCATION:Mercatale Val di Pesa, FI\, ITA
URL:http://www.chianticlassicomarathon.com/
CATEGORIES:Ultramarathon
CONTACT:
CLASS:PUBLIC
PRIORITY:5
TRANSP:OPAQUE
END:VEVENT
END:VCALENDAR
