BEGIN:VCALENDAR
PRODID:-//http://statistik.d-u-v.org//PHP ultracalendar//EN
VERSION:2.0
METHOD:PUBLISH
BEGIN:VEVENT
DTSTAMP:20260419T140032
CREATED:20260117T132305
UID:1776607232.0.06418000-128469@statistik.d-u-v.org
SUMMARY:Topo Athletic Bibracte Ultra-Trail - La Balade de Dumnorix
DESCRIPTION: Topo Athletic Bibracte Ultra-Trail - La Balade de Dumnorix\n
  \n
  inscription.bibracteultratrail[at]gmail.com
DTSTART:20261114T090000
DTEND:00000000T235900
LOCATION:Arleuf\, FRA
URL:https://www.bibracteultratrail.fr/
CATEGORIES:Ultramarathon
CONTACT:
CLASS:PUBLIC
PRIORITY:5
TRANSP:OPAQUE
END:VEVENT
END:VCALENDAR
