BEGIN:VCALENDAR
PRODID:-//http://statistik.d-u-v.org//PHP ultracalendar//EN
VERSION:2.0
METHOD:PUBLISH
BEGIN:VEVENT
DTSTAMP:20260419T210224
CREATED:20260117T124725
UID:1776632544.0.30448100-128463@statistik.d-u-v.org
SUMMARY:Trail des 6 burons
DESCRIPTION: Trail des 6 burons\n
  Marie-Noëlle Guimard\n
  infos[at]trail6burons.com
DTSTART:20260808T060000
DTEND:00000000T235900
LOCATION:Riom-es-Montagnes\, FRA
URL:http://www.trail6burons.com/
CATEGORIES:Ultramarathon
CONTACT:Marie-Noëlle Guimard
CLASS:PUBLIC
PRIORITY:5
TRANSP:OPAQUE
END:VEVENT
END:VCALENDAR
