BEGIN:VCALENDAR
PRODID:-//http://statistik.d-u-v.org//PHP ultracalendar//EN
VERSION:2.0
METHOD:PUBLISH
BEGIN:VEVENT
DTSTAMP:20260419T121538
CREATED:20260117T110943
UID:1776600938.0.43385800-128452@statistik.d-u-v.org
SUMMARY:Trail So Bugey - L'intégrale So Bugey
DESCRIPTION: Trail So Bugey - L'intégrale So Bugey\n
  \n
  contact[at]trailsobugey.com
DTSTART:20260509T060000
DTEND:00000000T235900
LOCATION:Lhuis\, FRA
URL:https://www.trailsobugey.com/
CATEGORIES:Ultramarathon
CONTACT:
CLASS:PUBLIC
PRIORITY:5
TRANSP:OPAQUE
END:VEVENT
END:VCALENDAR
