BEGIN:VCALENDAR
PRODID:-//http://statistik.d-u-v.org//PHP ultracalendar//EN
VERSION:2.0
METHOD:PUBLISH
BEGIN:VEVENT
DTSTAMP:20260419T121600
CREATED:20260117T103518
UID:1776600960.0.98376600-128446@statistik.d-u-v.org
SUMMARY:L.A.T Legends Ardennes Trail 60km
DESCRIPTION: L.A.T Legends Ardennes Trail 60km\n
  \n
  inscriptions[at]ultratiming.be
DTSTART:20260502T100000
DTEND:00000000T235900
LOCATION:Lamormenil\, BEL
URL:https://ultratiming.ledossard.com/inscription/index.php?id=3051
CATEGORIES:Ultramarathon
CONTACT:
CLASS:PUBLIC
PRIORITY:5
TRANSP:OPAQUE
END:VEVENT
END:VCALENDAR
